BEGIN:VCALENDAR
VERSION:2.0
PRODID:-//St. Paul&#039;s Episcopal Church - Cleveland Heights, Ohio - ECPv6.15.20//NONSGML v1.0//EN
CALSCALE:GREGORIAN
METHOD:PUBLISH
X-WR-CALNAME:St. Paul&#039;s Episcopal Church - Cleveland Heights, Ohio
X-ORIGINAL-URL:https://stpaulscle.org
X-WR-CALDESC:Events for St. Paul&#039;s Episcopal Church - Cleveland Heights, Ohio
REFRESH-INTERVAL;VALUE=DURATION:PT1H
X-Robots-Tag:noindex
X-PUBLISHED-TTL:PT1H
BEGIN:VTIMEZONE
TZID:America/New_York
BEGIN:DAYLIGHT
TZOFFSETFROM:-0500
TZOFFSETTO:-0400
TZNAME:EDT
DTSTART:20250309T070000
END:DAYLIGHT
BEGIN:STANDARD
TZOFFSETFROM:-0400
TZOFFSETTO:-0500
TZNAME:EST
DTSTART:20251102T060000
END:STANDARD
BEGIN:DAYLIGHT
TZOFFSETFROM:-0500
TZOFFSETTO:-0400
TZNAME:EDT
DTSTART:20260308T070000
END:DAYLIGHT
BEGIN:STANDARD
TZOFFSETFROM:-0400
TZOFFSETTO:-0500
TZNAME:EST
DTSTART:20261101T060000
END:STANDARD
BEGIN:DAYLIGHT
TZOFFSETFROM:-0500
TZOFFSETTO:-0400
TZNAME:EDT
DTSTART:20270314T070000
END:DAYLIGHT
BEGIN:STANDARD
TZOFFSETFROM:-0400
TZOFFSETTO:-0500
TZNAME:EST
DTSTART:20271107T060000
END:STANDARD
END:VTIMEZONE
BEGIN:VEVENT
DTSTART;TZID=America/New_York:20260429T193000
DTEND;TZID=America/New_York:20260429T213000
DTSTAMP:20260421T204151
CREATED:20250729T005608Z
LAST-MODIFIED:20260305T175111Z
UID:10001049-1777491000-1777498200@stpaulscle.org
SUMMARY:The Choir of Westminster Abbey
DESCRIPTION:The Choir of Westminster Abbey is renowned worldwide as one of the finest choirs of its type. Comprising up to 30 boys (all of whom attend the Abbey’s unique Choir School) and 12 professional adult singers (known as Lay Vicars)\, its wide-ranging performing activities are rooted in centuries-old tradition. \nThe repertoire ranges from plainsong and Tudor polyphony\, to 20th century masterpieces and new commissions. The choir is led by Master of the Choristers Andrew Nethsingha with organist Matthew Jorysz. \n  \nTickets required\, $25 general admission. Purchase online: https://square.link/u/e9DeYoXt
URL:https://stpaulscle.org/events/westminster-abbey-choir/
LOCATION:Nave\, 2747 Fairmount Blvd\, Cleveland Heights\, OH\, 44106\, United States
CATEGORIES:Music
ATTACH;FMTTYPE=image/jpeg:https://d105w81ozsyerb.cloudfront.net/wp-content/uploads/files/20260429-Choir-of-Westminster-Abbey-Thumbnail-2sdNXs.jpg
END:VEVENT
BEGIN:VEVENT
DTSTART;TZID=America/New_York:20260430T180000
DTEND;TZID=America/New_York:20260430T184500
DTSTAMP:20260421T204151
CREATED:20260414T185930Z
LAST-MODIFIED:20260415T205100Z
UID:10001205-1777572000-1777574700@stpaulscle.org
SUMMARY:The Feast Saints Philip and James
DESCRIPTION:Join us for the celebration of the Holy Eucharist on The Eve of The Feast of the Apostles\, Saint Philip and Saint James. The Assistant Rector\, Patricia Rose\, will preach. \nThe Feast of Saints Philip and James honors two apostles of Jesus about whom the Scriptures tell us little\, yet whose faith and witness endure in the life of the Church. \nJames\, called “the Less” to distinguish him from James the son of Zebedee\, is identified as the son of Alpheus. He may also be the “James the younger” who\, with Jesus’s mother Mary\, watched the crucifixion from afar. \nPhilip appears more vividly in the Gospel of John\, where Jesus calls him soon after Andrew and Peter. Eager to share the good news\, Philip brings his friend Nathanael to meet Jesus. His practical\, questioning nature surfaces again when he wonders how to feed the vast crowd\, only to see Jesus multiply the loaves and fishes. Philip later asks\, “Lord\, show us the Father\,” prompting Jesus’ profound reply\, “He who has seen me has seen the Father.” \nThough their later lives are largely hidden from history\, both apostles are remembered for their simple faithfulness—the readiness to follow\, to ask\, to trust\, and to proclaim the truth of Christ.
URL:https://stpaulscle.org/events/feast-of-sts-philip-james/
LOCATION:St. Martin’s Chapel\, 2747 Fairmount Blvd\, Cleveland Heights\, OH\, 44106\, United States
CATEGORIES:Special Services,Worship Services
ATTACH;FMTTYPE=image/jpeg:https://d105w81ozsyerb.cloudfront.net/wp-content/uploads/files/20260430-Sts-Philip-James-Thumbnail.jpg
END:VEVENT
BEGIN:VEVENT
DTSTART;TZID=America/New_York:20260517T121500
DTEND;TZID=America/New_York:20260517T131500
DTSTAMP:20260421T204151
CREATED:20260317T032506Z
LAST-MODIFIED:20260403T183850Z
UID:10001147-1779020100-1779023700@stpaulscle.org
SUMMARY:Architecture + Art Tour
DESCRIPTION:Meet in the Narthex (behind the Nave) \nDo you know where the four Diocesan seals are in St. Paul’s? How about the movie projection booth? William Vodrey will lead an hour-long tour of the church so you can find out! Whether you’ve been at St. Paul’s for many years or just a few weeks\, there’s always more to discover throughout the wonderful space we gather. Learn more about the architecture and art of St. Paul’s!
URL:https://stpaulscle.org/events/architecture-art-tour/
LOCATION:OH
CATEGORIES:Parish Events
ATTACH;FMTTYPE=image/jpeg:https://d105w81ozsyerb.cloudfront.net/wp-content/uploads/files/20260322-Architecture-Tour-Thumbnail-Yrbdbz.jpg
END:VEVENT
BEGIN:VEVENT
DTSTART;TZID=America/New_York:20260517T150000
DTEND;TZID=America/New_York:20260517T170000
DTSTAMP:20260421T204151
CREATED:20260107T211251Z
LAST-MODIFIED:20260420T183557Z
UID:10001131-1779030000-1779037200@stpaulscle.org
SUMMARY:RESCHEDULED Power in Progress: Celebrating 15 Years of GCC
DESCRIPTION:We don’t wait for change: We make it together. \nThis joyful event will celebrate\, honor\, and hear wisdom from Greater Cleveland Congregations’ founding clergy: Pastor Jawanza Colvin (Olivet Baptist)\, Rabbi Josh Caruso (Congregation Mishkan Or)\, and Dean Tracey Lind (retired Dean of Trinity Cathedral). \nThese leaders will share what sparked their interest in GCC’s organizing model\, how and why they came together to create and build GCC in Cleveland\, their most powerful highlights and insights along the way\, and their vision for GCC’s future in this challenging time. Please RSVP online: https://tinyurl.com/may26-gcc \n  \n*If you need transportation to the event\, contact Julie Micheletti (MichelettiJulie@gmail.com). \n___________ \nSt. Paul’s has been a part of GCC since the beginning. We were part of all the good works accomplished over the past 15 years including the promotion and passage of two critical levies for CMSD\, Medicaid expansion\, creating the first Gun Safety Consortium\, offering COVID testing and vaccines in the city of Cleveland\, providing voter resources and encouraging voter engagement\, and supporting the opening of the first mental health and addiction Crisis Diversion Center in Cuyahoga County. We continue our work in healthcare\, criminal justice\, racial inequity and the improvement of Cleveland neighborhoods. \n 
URL:https://stpaulscle.org/events/power-in-progress/
LOCATION:Olivet Institutional Baptist Church\, 8712 Quincy Ave. #14\, Cleveland\, OH\, 44106\, United States
CATEGORIES:Outreach
ATTACH;FMTTYPE=image/jpeg:https://d105w81ozsyerb.cloudfront.net/wp-content/uploads/files/20260118-GCC-Thumbnail-14L7IN.jpg
END:VEVENT
BEGIN:VEVENT
DTSTART;TZID=America/New_York:20260517T160000
DTEND;TZID=America/New_York:20260517T170000
DTSTAMP:20260421T204151
CREATED:20260113T215558Z
LAST-MODIFIED:20260305T175041Z
UID:10001141-1779033600-1779037200@stpaulscle.org
SUMMARY:Senior Choir Choral Evensong
DESCRIPTION:The Senior Choir sings Evensong\, featuring: \n\nGabriel Jackson Preces and Responses \nSydney Watson Evening Service in E Major \nWilliam Walton The Twelve\n\nThis service will be livestreamed.
URL:https://stpaulscle.org/events/evensong-easter7/
LOCATION:Nave\, 2747 Fairmount Blvd\, Cleveland Heights\, OH\, 44106\, United States
CATEGORIES:Worship Services
ATTACH;FMTTYPE=image/jpeg:https://d105w81ozsyerb.cloudfront.net/wp-content/uploads/files/20260315-Senior-Choir-Choral-Evensong-Thumbnail-kFODnx.jpg
END:VEVENT
BEGIN:VEVENT
DTSTART;TZID=America/New_York:20260607T074500
DTEND;TZID=America/New_York:20260607T114500
DTSTAMP:20260421T204151
CREATED:20260416T191220Z
LAST-MODIFIED:20260416T191437Z
UID:10001207-1780818300-1780832700@stpaulscle.org
SUMMARY:Summer Worship Schedule Begins
DESCRIPTION:During the summer\, St. Paul’s switches up our Sunday morning worship schedule:\n\nOur early service remains at 7:45 a.m. in St. Martin’s Chapel.\nOur second service remains at 9 a.m.\, but we will gather on the Front Lawn (weather permitting). We will have plenty of folding chairs\, but feel free to bring a blanket or other preferred seat. Strollers and wagons are welcome! If the weather doesn’t cooperate\, we will worship in the Nave. This service is ASL interpreted.\nOur third service on Sunday mornings begins at 10:30 a.m. during the Summer. This service will be in the Nave and is Livestreamed.
URL:https://stpaulscle.org/events/summer2026-begins/
LOCATION:St. Martin’s Chapel\, 2747 Fairmount Blvd\, Cleveland Heights\, OH\, 44106\, United States
CATEGORIES:Special Services,Weekly Services,Worship Services
ATTACH;FMTTYPE=image/jpeg:https://d105w81ozsyerb.cloudfront.net/wp-content/uploads/files/2026-Summer-Services-Thumbnail-wAKBrZ.jpg
END:VEVENT
END:VCALENDAR